BEGIN:VCALENDAR
VERSION:2.0
PRODID:-//ABIDE Chico - ECPv6.15.18//NONSGML v1.0//EN
CALSCALE:GREGORIAN
METHOD:PUBLISH
X-ORIGINAL-URL:https://abidechico.org
X-WR-CALDESC:Events for ABIDE Chico
REFRESH-INTERVAL;VALUE=DURATION:PT1H
X-Robots-Tag:noindex
X-PUBLISHED-TTL:PT1H
BEGIN:VTIMEZONE
TZID:UTC
BEGIN:STANDARD
TZOFFSETFROM:+0000
TZOFFSETTO:+0000
TZNAME:UTC
DTSTART:20250101T000000
END:STANDARD
END:VTIMEZONE
BEGIN:VEVENT
DTSTART;TZID=UTC:20260416T103000
DTEND;TZID=UTC:20260416T120000
DTSTAMP:20260425T093635
CREATED:20250701T215002Z
LAST-MODIFIED:20260414T190841Z
UID:3826-1776335400-1776340800@abidechico.org
SUMMARY:Bible Study for Women
DESCRIPTION:All women are invited to a Bible Study on Thursday mornings from 10:30-12:00.  They just started the book of Exodus (this week chapter 2!) \nIf you have questions\, please reach out to Janice (530) 864-1786 or Rick (916) 284-4822.
URL:https://abidechico.org/event/bible-study-for-women-2/
LOCATION:Keenes House\, 716 Orient Street\, Chico\, California
ATTACH;FMTTYPE=image/jpeg:https://abidechico.org/wp-content/uploads/2025/07/pexels-mart-production-7218327-scaled.jpg
END:VEVENT
BEGIN:VEVENT
DTSTART;TZID=UTC:20260416T173000
DTEND;TZID=UTC:20260416T190000
DTSTAMP:20260425T093635
CREATED:20250701T215534Z
LAST-MODIFIED:20260406T210419Z
UID:3835-1776360600-1776366000@abidechico.org
SUMMARY:Prayer Meeting
DESCRIPTION:All who are passionate about prayer are invited for a prayer meeting on Thursday evenings from 5:30-7:00 PM. \nIf you have questions\, please reach out to Janice (530) 864-1786 or Rick (916) 284-4822.
URL:https://abidechico.org/event/prayer-meeting-2/
LOCATION:Keenes House\, 716 Orient Street\, Chico\, California
ATTACH;FMTTYPE=image/jpeg:https://abidechico.org/wp-content/uploads/2025/07/pexels-thirdman-8468742-scaled.jpg
END:VEVENT
END:VCALENDAR