BEGIN:VCALENDAR
VERSION:2.0
PRODID:-//ABIDE Chico - ECPv6.15.18//NONSGML v1.0//EN
CALSCALE:GREGORIAN
METHOD:PUBLISH
X-WR-CALNAME:ABIDE Chico
X-ORIGINAL-URL:https://abidechico.org
X-WR-CALDESC:Events for ABIDE Chico
REFRESH-INTERVAL;VALUE=DURATION:PT1H
X-Robots-Tag:noindex
X-PUBLISHED-TTL:PT1H
BEGIN:VTIMEZONE
TZID:America/Los_Angeles
BEGIN:DAYLIGHT
TZOFFSETFROM:-0800
TZOFFSETTO:-0700
TZNAME:PDT
DTSTART:20250309T100000
END:DAYLIGHT
BEGIN:STANDARD
TZOFFSETFROM:-0700
TZOFFSETTO:-0800
TZNAME:PST
DTSTART:20251102T090000
END:STANDARD
BEGIN:DAYLIGHT
TZOFFSETFROM:-0800
TZOFFSETTO:-0700
TZNAME:PDT
DTSTART:20260308T100000
END:DAYLIGHT
BEGIN:STANDARD
TZOFFSETFROM:-0700
TZOFFSETTO:-0800
TZNAME:PST
DTSTART:20261101T090000
END:STANDARD
BEGIN:DAYLIGHT
TZOFFSETFROM:-0800
TZOFFSETTO:-0700
TZNAME:PDT
DTSTART:20270314T100000
END:DAYLIGHT
BEGIN:STANDARD
TZOFFSETFROM:-0700
TZOFFSETTO:-0800
TZNAME:PST
DTSTART:20271107T090000
END:STANDARD
END:VTIMEZONE
BEGIN:VEVENT
DTSTART;TZID=America/Los_Angeles:20260417T180000
DTEND;TZID=America/Los_Angeles:20260417T200000
DTSTAMP:20260425T092932
CREATED:20260414T190149Z
LAST-MODIFIED:20260414T190357Z
UID:5041-1776448800-1776456000@abidechico.org
SUMMARY:Youth Group - Fridays Nights
DESCRIPTION:The Deep youth group gathers on Friday nights from 6-8pm at the Chico church location. 6th Grade – High School. Get More Info Here.
URL:https://abidechico.org/event/youth-group-fridays-nights/
LOCATION:1350 E 9th Street\, 1350 E 9th Street\, #190
ATTACH;FMTTYPE=image/png:https://abidechico.org/wp-content/uploads/2026/03/The-Deep-Youth-Group-Logo.png
END:VEVENT
END:VCALENDAR