BEGIN:VCALENDAR
VERSION:2.0
PRODID:-//ABIDE Chico - ECPv6.15.18//NONSGML v1.0//EN
CALSCALE:GREGORIAN
METHOD:PUBLISH
X-ORIGINAL-URL:https://abidechico.org
X-WR-CALDESC:Events for ABIDE Chico
REFRESH-INTERVAL;VALUE=DURATION:PT1H
X-Robots-Tag:noindex
X-PUBLISHED-TTL:PT1H
BEGIN:VTIMEZONE
TZID:UTC
BEGIN:STANDARD
TZOFFSETFROM:+0000
TZOFFSETTO:+0000
TZNAME:UTC
DTSTART:20250101T000000
END:STANDARD
END:VTIMEZONE
BEGIN:VEVENT
DTSTART;TZID=UTC:20260420T154500
DTEND;TZID=UTC:20260420T170000
DTSTAMP:20260425T093051
CREATED:20250219T004205Z
LAST-MODIFIED:20260414T190642Z
UID:3640-1776699900-1776704400@abidechico.org
SUMMARY:Valiant Men's Groups
DESCRIPTION:Valiant Men’s Groups – Monday 3:45-5:00pm and Wednesday 3:30-5:00pm contact Matt or Jason for more details. \nNEW LOCATION: 1350 E 9th Street\, #190
URL:https://abidechico.org/event/valiant-mens-groups-5/
LOCATION:New Service Location\, 1350 E 9th Street\, #190\, Chico\, California
ATTACH;FMTTYPE=image/png:https://abidechico.org/wp-content/uploads/2025/02/mollybrown2024_friendly_young_and_middle_aged_men_meeting_outsi_7ac06711-aa44-4bde-9ebe-7e1ed3e29a18.png
END:VEVENT
END:VCALENDAR