BEGIN:VCALENDAR
VERSION:2.0
PRODID:-//ABIDE Chico - ECPv6.15.18//NONSGML v1.0//EN
CALSCALE:GREGORIAN
METHOD:PUBLISH
X-ORIGINAL-URL:https://abidechico.org
X-WR-CALDESC:Events for ABIDE Chico
REFRESH-INTERVAL;VALUE=DURATION:PT1H
X-Robots-Tag:noindex
X-PUBLISHED-TTL:PT1H
BEGIN:VTIMEZONE
TZID:UTC
BEGIN:STANDARD
TZOFFSETFROM:+0000
TZOFFSETTO:+0000
TZNAME:UTC
DTSTART:20250101T000000
END:STANDARD
END:VTIMEZONE
BEGIN:VTIMEZONE
TZID:America/Los_Angeles
BEGIN:DAYLIGHT
TZOFFSETFROM:-0800
TZOFFSETTO:-0700
TZNAME:PDT
DTSTART:20250309T100000
END:DAYLIGHT
BEGIN:STANDARD
TZOFFSETFROM:-0700
TZOFFSETTO:-0800
TZNAME:PST
DTSTART:20251102T090000
END:STANDARD
BEGIN:DAYLIGHT
TZOFFSETFROM:-0800
TZOFFSETTO:-0700
TZNAME:PDT
DTSTART:20260308T100000
END:DAYLIGHT
BEGIN:STANDARD
TZOFFSETFROM:-0700
TZOFFSETTO:-0800
TZNAME:PST
DTSTART:20261101T090000
END:STANDARD
BEGIN:DAYLIGHT
TZOFFSETFROM:-0800
TZOFFSETTO:-0700
TZNAME:PDT
DTSTART:20270314T100000
END:DAYLIGHT
BEGIN:STANDARD
TZOFFSETFROM:-0700
TZOFFSETTO:-0800
TZNAME:PST
DTSTART:20271107T090000
END:STANDARD
END:VTIMEZONE
BEGIN:VEVENT
DTSTART;TZID=UTC:20260420T154500
DTEND;TZID=UTC:20260420T170000
DTSTAMP:20260425T120900
CREATED:20250219T004205Z
LAST-MODIFIED:20260414T190642Z
UID:3640-1776699900-1776704400@abidechico.org
SUMMARY:Valiant Men's Groups
DESCRIPTION:Valiant Men’s Groups – Monday 3:45-5:00pm and Wednesday 3:30-5:00pm contact Matt or Jason for more details. \nNEW LOCATION: 1350 E 9th Street\, #190
URL:https://abidechico.org/event/valiant-mens-groups-5/
LOCATION:New Service Location\, 1350 E 9th Street\, #190\, Chico\, California
ATTACH;FMTTYPE=image/png:https://abidechico.org/wp-content/uploads/2025/02/mollybrown2024_friendly_young_and_middle_aged_men_meeting_outsi_7ac06711-aa44-4bde-9ebe-7e1ed3e29a18.png
END:VEVENT
BEGIN:VEVENT
DTSTART;TZID=UTC:20260422T153000
DTEND;TZID=UTC:20260422T170000
DTSTAMP:20260425T120900
CREATED:20250212T054017Z
LAST-MODIFIED:20260414T190746Z
UID:3621-1776871800-1776877200@abidechico.org
SUMMARY:Valiant Men's Groups
DESCRIPTION:Valiant Men’s Groups – Monday 3:45-5:00pm and Wednesday 3:30-5:00pm contact Matt or Jason for more details. \nNEW LOCATION: 1350 E 9th Street\, #190
URL:https://abidechico.org/event/valiant-mens-groups-2/
LOCATION:New Service Location\, 1350 E 9th Street\, #190\, Chico\, California
ATTACH;FMTTYPE=image/png:https://abidechico.org/wp-content/uploads/2025/02/mollybrown2024_friendly_young_and_middle_aged_men_meeting_outsi_7ac06711-aa44-4bde-9ebe-7e1ed3e29a18.png
END:VEVENT
BEGIN:VEVENT
DTSTART;TZID=UTC:20260423T103000
DTEND;TZID=UTC:20260423T120000
DTSTAMP:20260425T120900
CREATED:20250701T214755Z
LAST-MODIFIED:20260414T191252Z
UID:3821-1776940200-1776945600@abidechico.org
SUMMARY:Bible Study for Women
DESCRIPTION:All women are invited to a Bible Study on Thursday mornings from 10:30-12:00.  They just started the book of Exodus (this week chapter 2!) \nIf you have questions\, please reach out to Janice (530) 864-1786 or Rick (916) 284-4822.
URL:https://abidechico.org/event/bible-study-for-women/
LOCATION:Keenes House\, 716 Orient Street\, Chico\, California
ATTACH;FMTTYPE=image/jpeg:https://abidechico.org/wp-content/uploads/2025/07/pexels-mart-production-7218327-scaled.jpg
END:VEVENT
BEGIN:VEVENT
DTSTART;TZID=UTC:20260423T173000
DTEND;TZID=UTC:20260423T190000
DTSTAMP:20260425T120900
CREATED:20250701T215427Z
LAST-MODIFIED:20260414T191347Z
UID:3829-1776965400-1776970800@abidechico.org
SUMMARY:Prayer Meeting
DESCRIPTION:All who are passionate about prayer are invited for a prayer meeting on Thursday evenings from 5:30-7:00 PM. \nIf you have questions\, please reach out to Janice (530) 864-1786 or Rick (916) 284-4822.
URL:https://abidechico.org/event/prayer-meeting/
LOCATION:Keenes House\, 716 Orient Street\, Chico\, California
ATTACH;FMTTYPE=image/jpeg:https://abidechico.org/wp-content/uploads/2025/07/pexels-thirdman-8468742-scaled.jpg
END:VEVENT
BEGIN:VEVENT
DTSTART;TZID=America/Los_Angeles:20260424T180000
DTEND;TZID=America/Los_Angeles:20260424T200000
DTSTAMP:20260425T120900
CREATED:20260414T190451Z
LAST-MODIFIED:20260414T190451Z
UID:5046-1777053600-1777060800@abidechico.org
SUMMARY:Youth Group - Fridays Nights
DESCRIPTION:The Deep youth group gathers on Friday nights from 6-8pm at the Chico church location. 6th Grade – High School. Get More Info Here.
URL:https://abidechico.org/event/youth-group-fridays-nights-2/
LOCATION:1350 E 9th Street\, 1350 E 9th Street\, #190
ATTACH;FMTTYPE=image/png:https://abidechico.org/wp-content/uploads/2026/03/The-Deep-Youth-Group-Logo.png
END:VEVENT
BEGIN:VEVENT
DTSTART;TZID=UTC:20260426T100000
DTEND;TZID=UTC:20260426T100000
DTSTAMP:20260425T120900
CREATED:20250308T023855Z
LAST-MODIFIED:20260416T171134Z
UID:3707-1777197600-1777197600@abidechico.org
SUMMARY:Kids Church
DESCRIPTION:Kids Church meets the last Sunday of each month\, offering a fun\, interactive environment for children to explore faith through engaging lessons and activities. To learn more\, visit here: https://abidechico.org/ministries/abide-kids/ \n10-12:15am \nNEW SERVICE LOCATION: 1350 E 9th Street\, #190
URL:https://abidechico.org/event/kids-church-2/
LOCATION:New Service Location\, 1350 E 9th Street\, #190\, Chico\, California
ATTACH;FMTTYPE=image/jpeg:https://abidechico.org/wp-content/uploads/2025/03/pexels-yankrukov-8613089-scaled-e1741297979309.jpg
END:VEVENT
BEGIN:VEVENT
DTSTART;TZID=UTC:20260503T110000
DTEND;TZID=UTC:20260503T120000
DTSTAMP:20260425T120901
CREATED:20250212T052705Z
LAST-MODIFIED:20260302T173853Z
UID:3610-1777806000-1777809600@abidechico.org
SUMMARY:Potluck following service 1st Sunday of each month.
DESCRIPTION:Potluck following service first Sunday of each month. \nNEW SERVICE LOCATION: 1350 E 9th Street\, #190
URL:https://abidechico.org/event/potluck-following-service-1st-sunday-of-each-month/
LOCATION:New Service Location\, 1350 E 9th Street\, #190\, Chico\, California
ATTACH;FMTTYPE=image/jpeg:https://abidechico.org/wp-content/uploads/2024/04/pexels-askar-abayev-5638605-scaled-e1739309296962.jpg
END:VEVENT
BEGIN:VEVENT
DTSTART;TZID=UTC:20260531T100000
DTEND;TZID=UTC:20260531T121500
DTSTAMP:20260425T120901
CREATED:20250307T061742Z
LAST-MODIFIED:20260416T171005Z
UID:3674-1780221600-1780229700@abidechico.org
SUMMARY:Kids Church
DESCRIPTION:Kids Church meets once a month\, offering a fun\, interactive environment for children to explore faith through engaging lessons and activities. To learn more\, visit here: https://abidechico.org/ministries/abide-kids/ \n10-12:15am \nNEW SERVICE LOCATION: 1350 E 9th Street\, #190
URL:https://abidechico.org/event/kids-church/
LOCATION:New Service Location\, 1350 E 9th Street\, #190\, Chico\, California
ATTACH;FMTTYPE=image/jpeg:https://abidechico.org/wp-content/uploads/2025/03/pexels-yankrukov-8613089-scaled-e1741297979309.jpg
END:VEVENT
BEGIN:VEVENT
DTSTART;TZID=UTC:20260607T110000
DTEND;TZID=UTC:20260607T120000
DTSTAMP:20260425T120901
CREATED:20250212T052901Z
LAST-MODIFIED:20260406T210523Z
UID:3614-1780830000-1780833600@abidechico.org
SUMMARY:Potluck following service 1st Sunday of each month.
DESCRIPTION:Potluck following service first Sunday of each month. \nNEW SERVICE LOCATION: 1350 E 9th Street\, #190
URL:https://abidechico.org/event/potluck-following-service-1st-sunday-of-each-month-2/
LOCATION:New Service Location\, 1350 E 9th Street\, #190\, Chico\, California
ATTACH;FMTTYPE=image/jpeg:https://abidechico.org/wp-content/uploads/2024/04/pexels-askar-abayev-5638605-scaled-e1739309296962.jpg
END:VEVENT
END:VCALENDAR