BEGIN:VCALENDAR
VERSION:2.0
PRODID:-//ABIDE Chico - ECPv6.15.18//NONSGML v1.0//EN
CALSCALE:GREGORIAN
METHOD:PUBLISH
X-WR-CALNAME:ABIDE Chico
X-ORIGINAL-URL:https://abidechico.org
X-WR-CALDESC:Events for ABIDE Chico
REFRESH-INTERVAL;VALUE=DURATION:PT1H
X-Robots-Tag:noindex
X-PUBLISHED-TTL:PT1H
BEGIN:VTIMEZONE
TZID:UTC
BEGIN:STANDARD
TZOFFSETFROM:+0000
TZOFFSETTO:+0000
TZNAME:UTC
DTSTART:20240101T000000
END:STANDARD
END:VTIMEZONE
BEGIN:VEVENT
DTSTART;TZID=UTC:20250412T083000
DTEND;TZID=UTC:20250412T120000
DTSTAMP:20260425T173706
CREATED:20250318T012115Z
LAST-MODIFIED:20250318T012115Z
UID:3739-1744446600-1744459200@abidechico.org
SUMMARY:Bridging the Gap Walk4Water
DESCRIPTION:April 12th – Bridging the Gap Walk4Water – 8:30AM @ One Mile
URL:https://abidechico.org/event/bridging-the-gap-walk4water/
LOCATION:Chapman Elementary\, 1071 16th Street\, Chico\, CA
ATTACH;FMTTYPE=image/png:https://abidechico.org/wp-content/uploads/2025/03/mollybrown2024_morning_walk_group_of_people_600bc9ed-487a-49ee-8559-91a7037f456c.png
END:VEVENT
BEGIN:VEVENT
DTSTART;TZID=UTC:20250329T130000
DTEND;TZID=UTC:20250329T150000
DTSTAMP:20260425T173706
CREATED:20250318T010254Z
LAST-MODIFIED:20250318T010534Z
UID:3731-1743253200-1743260400@abidechico.org
SUMMARY:Chapman Prayer Walk & Outreach
DESCRIPTION:March 29th – Chapman Prayer Walk & Outreach 1:00-3:00pm.
URL:https://abidechico.org/event/chapman-prayer-walk-outreach/
LOCATION:Chapman Elementary\, 1071 16th Street\, Chico\, CA
ATTACH;FMTTYPE=image/png:https://abidechico.org/wp-content/uploads/2024/04/mollybrown2024_group_of_happy_people_at_worship_photo_from_behi_25707908-7334-462d-8312-56684dc987c5.png
END:VEVENT
BEGIN:VEVENT
DTSTART;TZID=UTC:20250226T150000
DTEND;TZID=UTC:20250226T170000
DTSTAMP:20260425T173706
CREATED:20250219T003930Z
LAST-MODIFIED:20250219T003938Z
UID:3635-1740582000-1740589200@abidechico.org
SUMMARY:Valiant Men's Groups
DESCRIPTION:Valiant Men’s Groups – Monday 3:45-5:00pm and Wednesday 3:30-5:00pm contact Matt or Jason for more details.
URL:https://abidechico.org/event/valiant-mens-groups-3/
LOCATION:California
ATTACH;FMTTYPE=image/png:https://abidechico.org/wp-content/uploads/2025/02/mollybrown2024_friendly_young_and_middle_aged_men_meeting_outsi_7ac06711-aa44-4bde-9ebe-7e1ed3e29a18.png
END:VEVENT
BEGIN:VEVENT
DTSTART;TZID=UTC:20250221T183000
DTEND;TZID=UTC:20250221T193000
DTSTAMP:20260425T173706
CREATED:20240127T032503Z
LAST-MODIFIED:20250212T050522Z
UID:733-1740162600-1740166200@abidechico.org
SUMMARY:Abiding Women on the 3rd Friday of the month.
DESCRIPTION:Abiding Women on the 3rd Friday of the month.  6:30pm at 965 Salem Street.  Contact Erin for more details.
URL:https://abidechico.org/event/family-day-at-the-park/
LOCATION:965 Salem Street\, 965 Salem Street\, Chico\, CA
ATTACH;FMTTYPE=image/png:https://abidechico.org/wp-content/uploads/2024/01/mollybrown2024_couple_of_friendly_women_gathering_outside_on_a__2caf98ae-47bd-4be1-b72d-9a950bd5fcd2-e1739307908139.png
END:VEVENT
END:VCALENDAR