BEGIN:VCALENDAR
VERSION:2.0
PRODID:-//ABIDE Chico - ECPv6.15.18//NONSGML v1.0//EN
CALSCALE:GREGORIAN
METHOD:PUBLISH
X-WR-CALNAME:ABIDE Chico
X-ORIGINAL-URL:https://abidechico.org
X-WR-CALDESC:Events for ABIDE Chico
REFRESH-INTERVAL;VALUE=DURATION:PT1H
X-Robots-Tag:noindex
X-PUBLISHED-TTL:PT1H
BEGIN:VTIMEZONE
TZID:UTC
BEGIN:STANDARD
TZOFFSETFROM:+0000
TZOFFSETTO:+0000
TZNAME:UTC
DTSTART:20240101T000000
END:STANDARD
END:VTIMEZONE
BEGIN:VEVENT
DTSTART;TZID=UTC:20250221T183000
DTEND;TZID=UTC:20250221T193000
DTSTAMP:20260425T190400
CREATED:20240127T032503Z
LAST-MODIFIED:20250212T050522Z
UID:733-1740162600-1740166200@abidechico.org
SUMMARY:Abiding Women on the 3rd Friday of the month.
DESCRIPTION:Abiding Women on the 3rd Friday of the month.  6:30pm at 965 Salem Street.  Contact Erin for more details.
URL:https://abidechico.org/event/family-day-at-the-park/
LOCATION:965 Salem Street\, 965 Salem Street\, Chico\, CA
ATTACH;FMTTYPE=image/png:https://abidechico.org/wp-content/uploads/2024/01/mollybrown2024_couple_of_friendly_women_gathering_outside_on_a__2caf98ae-47bd-4be1-b72d-9a950bd5fcd2-e1739307908139.png
END:VEVENT
END:VCALENDAR